BEGIN:VCALENDAR
VERSION:2.0
PRODID:-//ChamberMaster//Event Calendar 2.0//EN
METHOD:PUBLISH
X-PUBLISHED-TTL:P3D
REFRESH-INTERVAL:P3D
CALSCALE:GREGORIAN
BEGIN:VEVENT
DTSTART:20261110T184500Z
DTEND:20261110T200000Z
X-MICROSOFT-CDO-ALLDAYEVENT:FALSE
SUMMARY:Chamber Lunch - Michael Lyons - Frontier Community Resources
DESCRIPTION:
X-ALT-DESC;FMTTYPE=text/html:
LOCATION:Idaho Pizza Company - 78 E Eagle River St\, Eagle\, ID 83616
UID:e.2995.5636
SEQUENCE:3
DTSTAMP:20260425T025147Z
URL:http://eagleid.chambermaster.com/events/details/chamber-lunch-michael-lyons-frontier-community-resources-5636
END:VEVENT

END:VCALENDAR
